BEGIN:VCALENDAR
VERSION:2.0
CALSCALE:GREGORIAN
BEGIN:VEVENT
SUMMARY:Kundalini Yoga buiten bij werk aan &#039;t Spoel
DTSTART;TZID=Europe/Amsterdam:20190627T183000
DTEND;TZID=Europe/Amsterdam:20190627T200000
LOCATION:Goilbedingerdijk 40
DESCRIPTION: De komende 16 weken laten we tijdens de les alle 8 de chakra’s de revue passeren. Iedere twee weken wordt een van de chakra behandeld en uitgebreid toegelicht. Tijdens de lessen doen we specifieke oefeningen en meditaties voor dat betreffende chakra. Iedereen kan op zijn niveau meedoen. Je hebt geen bepaalde voorkennis nodig om deze lessen te kunnen volgen. Het enige wat belangrijk is dat je open staat voor nieuwe ervaringen.
STATUS:CONFIRMED
SEQUENCE:0
END:VEVENT
END:VCALENDAR