BEGIN:VCALENDAR
VERSION:2.0
CALSCALE:GREGORIAN
BEGIN:VEVENT
SUMMARY:Community Flow and Yin with Eva
DTSTART;TZID=Europe/Stockholm:20250801T170000
DTEND;TZID=Europe/Stockholm:20250801T180000
LOCATION:Salthallarna
DESCRIPTION: Free class for the sake of building relationships and sharing experiences and time together. 

Inviting you all to spend the evening with us giving us nothing more than your time in return
STATUS:CONFIRMED
SEQUENCE:0
END:VEVENT
END:VCALENDAR