BEGIN:VCALENDAR
VERSION:2.0
CALSCALE:GREGORIAN
BEGIN:VEVENT
SUMMARY:ÖPPET HUS Dynamisk Hatha (Zandra)
DTSTART;TZID=Europe/Stockholm:20240904T090000
DTEND;TZID=Europe/Stockholm:20240904T094500
LOCATION:The Hub - Höganäs
DESCRIPTION: 
STATUS:CONFIRMED
SEQUENCE:0
END:VEVENT
END:VCALENDAR