BEGIN:VCALENDAR
VERSION:2.0
CALSCALE:GREGORIAN
BEGIN:VEVENT
SUMMARY:Vinyasa Flow with Helena
DTSTART;TZID=Europe/Stockholm:20250312T170000
DTEND;TZID=Europe/Stockholm:20250312T183000
LOCATION:The Hub - Höganäs
DESCRIPTION: Äntligen är hon tillbaka!

Njut av en flow som kombinerar andetag, rörelse med ett inre lugn. 

För alla nivåer.
STATUS:CONFIRMED
SEQUENCE:0
END:VEVENT
END:VCALENDAR