BEGIN:VCALENDAR
VERSION:2.0
CALSCALE:GREGORIAN
BEGIN:VEVENT
SUMMARY:Yin Flow with Elin
DTSTART;TZID=Europe/Stockholm:20241217T173000
DTEND;TZID=Europe/Stockholm:20241217T183000
LOCATION:The Hub - Höganäs
DESCRIPTION: Yin Flow för alla nivåer är en harmonisk klass som förenar den djupa avslappningen och stillheten från Yin Yoga med ett mjukt flöde mellan positionerna. Genom att flyta långsamt och medvetet mellan asanas stannar vi i varje ställning tillräckligt länge för att verkligen känna in kroppen, men rör oss vidare innan det blir för statiskt. Detta skapar ett flödande, meditativt tempo där kropp och sinne hittar balans och närvaro. Perfekt för att släppa spänningar och öka flexibiliteten, samtidigt som du känner ett mjukt och naturligt flöde genom hela klassen.
STATUS:CONFIRMED
SEQUENCE:0
END:VEVENT
END:VCALENDAR