BEGIN:VCALENDAR
VERSION:2.0
CALSCALE:GREGORIAN
BEGIN:VEVENT
SUMMARY:Private Course
DTSTART;TZID=Europe/Stockholm:20250123T173000
DTEND;TZID=Europe/Stockholm:20250123T190000
LOCATION:Yoga by the Sea - Studio Mölle
DESCRIPTION: 
STATUS:CONFIRMED
SEQUENCE:0
END:VEVENT
END:VCALENDAR