BEGIN:VCALENDAR
VERSION:2.0
CALSCALE:GREGORIAN
BEGIN:VEVENT
SUMMARY:Vinyasa Flow with Gunn
DTSTART;TZID=Europe/Stockholm:20250110T170000
DTEND;TZID=Europe/Stockholm:20250110T181500
LOCATION:Yoga by the Sea - Studio Mölle
DESCRIPTION: Description
A 75 minute dynamic yoga class flowing through a range of postures accompanied by funky Indian inspired music. Ending with relaxation.

Gunn Haglund har praktisert yoga siden 1998 og utdannet seg i 2009 til yoga instruktør ved Triyoga i London. Hun har gjennomført en rekke fordypningskurs innen Asthanga yoga, yoga filosofi, Vipassana meditasjon, anatomi, nevrologi &amp;amp; epigenetikk, thai yoga massasje og Ayurveda medisin, i India, England og Frankrike.
STATUS:CONFIRMED
SEQUENCE:0
END:VEVENT
END:VCALENDAR