BEGIN:VCALENDAR
VERSION:2.0
CALSCALE:GREGORIAN
BEGIN:VEVENT
SUMMARY:Dynamisk yoga med Helena
DTSTART;TZID=Europe/Stockholm:20250208T090000
DTEND;TZID=Europe/Stockholm:20250208T101500
LOCATION:Yoga by the Sea - Studio The Hub Höganäs
DESCRIPTION: Njut av en flow som kombinerar andetag, rörelse med ett inre lugn. 

För alla nivåer.
STATUS:CONFIRMED
SEQUENCE:0
END:VEVENT
END:VCALENDAR