BEGIN:VCALENDAR
VERSION:2.0
CALSCALE:GREGORIAN
BEGIN:VEVENT
SUMMARY:Dynamic yoga w/ Gunn
DTSTART;TZID=Europe/Stockholm:20250318T113000
DTEND;TZID=Europe/Stockholm:20250318T123000
LOCATION:Yoga by the Sea - Studio Mölle
DESCRIPTION: Soft 60 minute yoga class
STATUS:CONFIRMED
SEQUENCE:0
END:VEVENT
END:VCALENDAR