BEGIN:VCALENDAR
VERSION:2.0
CALSCALE:GREGORIAN
BEGIN:VEVENT
SUMMARY:Dynamic Vinyasa flow with Gunn
DTSTART;TZID=Europe/Stockholm:20250419T100000
DTEND;TZID=Europe/Stockholm:20250419T111500
LOCATION:Yoga by the Sea - Studio Mölle
DESCRIPTION: Combination of Ashtanga and Hatha yoga with inspiration of qi gong and relaxing yin yoga. Soft warm up, standing postures with deep focus on breathing. Variation of core work, twists and soft backbending. Ending with relaxation. Warm welcome🧡
STATUS:CONFIRMED
SEQUENCE:0
END:VEVENT
END:VCALENDAR