BEGIN:VCALENDAR
VERSION:2.0
CALSCALE:GREGORIAN
BEGIN:VEVENT
SUMMARY:Saturday Night Unwind - Yoga, Tea and Good Vibes with Pernilla
DTSTART;TZID=Europe/Stockholm:20250531T190000
DTEND;TZID=Europe/Stockholm:20250531T203000
LOCATION:Yoga by the Sea - The Hub
DESCRIPTION: Not hitting the clubs? Not wrangling kids? But still want to do something on a Saturday night?

Join us for a refreshing Yoga Flow, where we swap dance floors for yoga mats and flashing lights for candlelit vibes. This is your space to move, breathe, and reset—whether you’re winding down from the week or setting the tone for a mindful weekend.

After class, stick around for tea and good conversation—because Saturday nights don’t have to be loud to be memorable.

Come solo, bring a friend, or make new ones. See you on the mat!
STATUS:CONFIRMED
SEQUENCE:0
END:VEVENT
END:VCALENDAR