BEGIN:VCALENDAR
VERSION:2.0
CALSCALE:GREGORIAN
BEGIN:VEVENT
SUMMARY:FREE OPEN HOUSE YOGA EVENT AT SALTHALLARNA
DTSTART;TZID=Europe/Stockholm:20250712T133000
DTEND;TZID=Europe/Stockholm:20250712T160000
LOCATION:Salthallarna
DESCRIPTION: Welcome to join us for the opening of our new beautiful yoga space at Salthallarna!
Together we&#039;ll set the intention and energy for this new space with mantra, pranayama, yoga and the soothing sound of the gong.

Come meet our teachers, have a cup of tea and snack and join us for this new beautiful chapter for the studio!

Help us spread the word and make sure to book your spot!

Location
Salthallarna
STATUS:CONFIRMED
SEQUENCE:0
END:VEVENT
END:VCALENDAR