BEGIN:VCALENDAR
VERSION:2.0
CALSCALE:GREGORIAN
BEGIN:VEVENT
SUMMARY:Therapeutic Yoga
DTSTART;TZID=America/Vancouver:20230807T180000
DTEND;TZID=America/Vancouver:20230807T191500
LOCATION:242-203 Victoria St. Kamloops BC
DESCRIPTION: Hatha Style practices that explore the body, mind and spirit connection through movement, breath and mindfulness inquiries.
STATUS:CONFIRMED
SEQUENCE:0
END:VEVENT
END:VCALENDAR