BEGIN:VCALENDAR
VERSION:2.0
CALSCALE:GREGORIAN
BEGIN:VEVENT
SUMMARY:Hatha Yoga via Zoom with Helena
DTSTART;TZID=America/Chicago:20200416T100000
DTEND;TZID=America/Chicago:20200416T113000
LOCATION:Zoom
DESCRIPTION: Hatha Yoga with Helena
STATUS:CONFIRMED
SEQUENCE:0
END:VEVENT
END:VCALENDAR