BEGIN:VCALENDAR
VERSION:2.0
CALSCALE:GREGORIAN
BEGIN:VEVENT
SUMMARY:🌿Yoga in de natuur met Wendy🌿
DTSTART;TZID=Europe/Amsterdam:20210929T190000
DTEND;TZID=Europe/Amsterdam:20210929T201500
LOCATION:Valkenstijn Park
DESCRIPTION: .
STATUS:CONFIRMED
SEQUENCE:0
END:VEVENT
END:VCALENDAR