BEGIN:VCALENDAR
VERSION:2.0
CALSCALE:GREGORIAN
BEGIN:VEVENT
SUMMARY:☯️Yin &amp; Yang balancing Yoga online☯️
DTSTART;TZID=Europe/Amsterdam:20210205T170000
DTEND;TZID=Europe/Amsterdam:20210205T180000
LOCATION:Thuis
DESCRIPTION: De link is één week geldig en kun jij op elk moment van de week vanuit thuis doen
STATUS:CONFIRMED
SEQUENCE:0
END:VEVENT
END:VCALENDAR