BEGIN:VCALENDAR
VERSION:2.0
CALSCALE:GREGORIAN
BEGIN:VEVENT
SUMMARY:🌱Refreshing Yoga flow online🌱
DTSTART;TZID=Europe/Amsterdam:20210219T170000
DTEND;TZID=Europe/Amsterdam:20210219T180000
LOCATION:Thuis
DESCRIPTION: De les is één week geldig
STATUS:CONFIRMED
SEQUENCE:0
END:VEVENT
END:VCALENDAR