BEGIN:VCALENDAR
VERSION:2.0
CALSCALE:GREGORIAN
BEGIN:VEVENT
SUMMARY:Vinyasa Flow Yoga
DTSTART;TZID=Europe/Amsterdam:20210424T110000
DTEND;TZID=Europe/Amsterdam:20210424T120000
LOCATION:Thuis
DESCRIPTION: De link is één week geldig
STATUS:CONFIRMED
SEQUENCE:0
END:VEVENT
END:VCALENDAR