BEGIN:VCALENDAR
VERSION:2.0
CALSCALE:GREGORIAN
BEGIN:VEVENT
SUMMARY:🌸Feel good Yoga🌸
DTSTART;TZID=Europe/Amsterdam:20210625T170000
DTEND;TZID=Europe/Amsterdam:20210625T180000
LOCATION:Thuis
DESCRIPTION: De link is een week geldig
STATUS:CONFIRMED
SEQUENCE:0
END:VEVENT
END:VCALENDAR