BEGIN:VCALENDAR
VERSION:2.0
CALSCALE:GREGORIAN
BEGIN:VEVENT
SUMMARY:Yin yoga
DTSTART;TZID=Europe/Amsterdam:20241217T201500
DTEND;TZID=Europe/Amsterdam:20241217T211500
LOCATION:Yogacentrum Leeuwarden
DESCRIPTION: Yin yoga is een les waarin de houdingen langere tijd aangehouden worden, waardoor ze effect hebben op de bindweefsels waardoor een diepe ontspanning ontstaat.
STATUS:CONFIRMED
SEQUENCE:0
END:VEVENT
END:VCALENDAR