BEGIN:VCALENDAR
VERSION:2.0
CALSCALE:GREGORIAN
BEGIN:VEVENT
SUMMARY:Mindful hatha yoga
DTSTART;TZID=Europe/Amsterdam:20250325T190000
DTEND;TZID=Europe/Amsterdam:20250325T200000
LOCATION:Yogacentrum Leeuwarden
DESCRIPTION: In deze lessen worden yogahoudingen afgewisseld met ademoefeningen. De houdingen zijn zowel dynamisch als statisch. Hiervoor hoef je niet lenig te zijn. Je doet de oefeningen binnen de mogelijkheden van je eigen lichaam.
STATUS:CONFIRMED
SEQUENCE:0
END:VEVENT
END:VCALENDAR