BEGIN:VCALENDAR
VERSION:2.0
CALSCALE:GREGORIAN
BEGIN:VEVENT
SUMMARY:🖥 Versterk je Kern (online 1 jaar geldig)
DTSTART;TZID=Europe/Amsterdam:20220129T153000
DTEND;TZID=Europe/Amsterdam:20220129T164500
LOCATION:Thuis
DESCRIPTION: Boek deze les met je strippenkaart en krijg een jaar lang toegang tot deze online les voor thuis. Opgenomen in de eerste helft van 2020. Boek deze zaterdagles uiterlijk vóór 14.45 uur en krijg de link en het wachtwoord om circa 15.00 uur toegestuurd (eerder inschrijven kan natuurlijk ook). Thema van de les: Sterke buik- en onderrugspieren kunnen veel rugklachten voorkomen. Deze yogales besteed naast de adem niet alleen aandacht aan de strekkingen van de spieren in dit gebied maar werkt ook aan de versteviging en stabiliteit van je kern en de massage van de interne organen.
STATUS:CONFIRMED
SEQUENCE:0
END:VEVENT
END:VCALENDAR