BEGIN:VCALENDAR
VERSION:2.0
CALSCALE:GREGORIAN
BEGIN:VEVENT
SUMMARY:Séance individuelle
DTSTART;TZID=Europe/Paris:20250801T121500
DTEND;TZID=Europe/Paris:20250801T131500
LOCATION:
DESCRIPTION: Une professeure de yoga rien que pour toi, chez toi, au studio ou en extérieur. Un parcours 100 % personnalisé : plus de postures ? plus de relaxation ? plus de méditation ? une situation physique particulière ? C&amp;#039;est ensemble que nous construirons le plan de séances
STATUS:CONFIRMED
SEQUENCE:0
END:VEVENT
END:VCALENDAR