BEGIN:VCALENDAR
VERSION:2.0
CALSCALE:GREGORIAN
BEGIN:VEVENT
SUMMARY:14 salutations pour le 14 juillet
DTSTART;TZID=Europe/Paris:20250714T100000
DTEND;TZID=Europe/Paris:20250714T110000
LOCATION:2 rue de courcelles-sous-thoix 80160 FLEURY
DESCRIPTION: Thème : feu intérieur, liberté, transformation
Style : Vinyasa / Hatha rythmé
Prends ton tapis de yoga et une serviette !
STATUS:CONFIRMED
SEQUENCE:0
END:VEVENT
END:VCALENDAR