BEGIN:VCALENDAR
VERSION:2.0
CALSCALE:GREGORIAN
BEGIN:VEVENT
SUMMARY:INDIVIDUEL / DUO - “Repos sacré” – Hatha yoga très doux pour se régénérer - 🌑 Hiver intérieur
DTSTART;TZID=Europe/Paris:20250929T090000
DTEND;TZID=Europe/Paris:20250929T100000
LOCATION:
DESCRIPTION: Un cocon pour se déposer, apaiser le corps et nourrir l’intérieur. 

Idéal en période de postpartum, fatigue, flou existentiel, besoin de repli, rupture et ménopause
STATUS:CONFIRMED
SEQUENCE:0
END:VEVENT
END:VCALENDAR