BEGIN:VCALENDAR
VERSION:2.0
CALSCALE:GREGORIAN
BEGIN:VEVENT
SUMMARY:Live Stream Yoga
DTSTART;TZID=Europe/Amsterdam:20210509T103000
DTEND;TZID=Europe/Amsterdam:20210509T114500
LOCATION:Thuis
DESCRIPTION: Hatha Yogales
STATUS:CONFIRMED
SEQUENCE:0
END:VEVENT
END:VCALENDAR