BEGIN:VCALENDAR
VERSION:2.0
CALSCALE:GREGORIAN
BEGIN:VEVENT
SUMMARY:Yoga kids (9-16 years old)
DTSTART;TZID=America/New_York:20190924T160000
DTEND;TZID=America/New_York:20190924T170000
LOCATION:SWR
DESCRIPTION: Can only be purchased with a &quot;5-class pass: Yoga kids&quot;
STATUS:CONFIRMED
SEQUENCE:0
END:VEVENT
END:VCALENDAR