BEGIN:VCALENDAR
VERSION:2.0
CALSCALE:GREGORIAN
BEGIN:VEVENT
SUMMARY:Candlelight Yoga
DTSTART;TZID=America/New_York:20191106T190000
DTEND;TZID=America/New_York:20191106T200000
LOCATION:SWR
DESCRIPTION: Today is international stress awareness day, in light of which we will hold a Candlelight Yoga session.
STATUS:CONFIRMED
SEQUENCE:0
END:VEVENT
END:VCALENDAR