BEGIN:VCALENDAR
VERSION:2.0
CALSCALE:GREGORIAN
BEGIN:VEVENT
SUMMARY:Yoga kids (9-13 years old)
DTSTART;TZID=America/New_York:20191217T160000
DTEND;TZID=America/New_York:20191217T170000
LOCATION:SWR
DESCRIPTION: Next Yoga kids class starts in the 2nd week of January.
STATUS:CONFIRMED
SEQUENCE:0
END:VEVENT
END:VCALENDAR