BEGIN:VCALENDAR
VERSION:2.0
CALSCALE:GREGORIAN
BEGIN:VEVENT
SUMMARY:Yin Yoga (with Maria Laura)
DTSTART;TZID=America/New_York:20200215T100000
DTEND;TZID=America/New_York:20200215T110000
LOCATION:SWR
DESCRIPTION: Yin Yoga class dedicated to athletic performers
STATUS:CONFIRMED
SEQUENCE:0
END:VEVENT
END:VCALENDAR