BEGIN:VCALENDAR
VERSION:2.0
CALSCALE:GREGORIAN
BEGIN:VEVENT
SUMMARY:Cancelled - Pranayama &amp; Gentle Yoga
DTSTART;TZID=America/New_York:20200217T190000
DTEND;TZID=America/New_York:20200217T200000
LOCATION:SWR
DESCRIPTION: Nina is recovering from the flu.
STATUS:CONFIRMED
SEQUENCE:0
END:VEVENT
END:VCALENDAR