BEGIN:VCALENDAR
VERSION:2.0
CALSCALE:GREGORIAN
BEGIN:VEVENT
SUMMARY:TTC sessie
DTSTART;TZID=Europe/Amsterdam:20250618T150000
DTEND;TZID=Europe/Amsterdam:20250618T163000
LOCATION:Kerkstraat 8 Wedde
DESCRIPTION: 
STATUS:CONFIRMED
SEQUENCE:0
END:VEVENT
END:VCALENDAR