BEGIN:VCALENDAR
VERSION:2.0
CALSCALE:GREGORIAN
BEGIN:VEVENT
SUMMARY:Talking to the Chakra&#039;s | TTC® sessie
DTSTART;TZID=Europe/Amsterdam:20251025T110000
DTEND;TZID=Europe/Amsterdam:20251025T123000
LOCATION:Kerkstraat 8 Wedde
DESCRIPTION: Because the body keeps the score...
STATUS:CONFIRMED
SEQUENCE:0
END:VEVENT
END:VCALENDAR