BEGIN:VCALENDAR
VERSION:2.0
CALSCALE:GREGORIAN
BEGIN:VEVENT
SUMMARY:Yinenzoyoga 2 uur
DTSTART;TZID=Europe/Amsterdam:20250117T190000
DTEND;TZID=Europe/Amsterdam:20250117T210000
LOCATION:van der Bildtstraat 6
DESCRIPTION: Een heerlijk lange yogales.
STATUS:CONFIRMED
SEQUENCE:0
END:VEVENT
END:VCALENDAR