BEGIN:VCALENDAR
VERSION:2.0
CALSCALE:GREGORIAN
BEGIN:VEVENT
SUMMARY:Yinyoga ipv maandag
DTSTART;TZID=Europe/Amsterdam:20250422T190000
DTEND;TZID=Europe/Amsterdam:20250422T144500
LOCATION:van der Bildtstraat 6
DESCRIPTION: 
STATUS:CONFIRMED
SEQUENCE:0
END:VEVENT
END:VCALENDAR