BEGIN:VCALENDAR
VERSION:2.0
CALSCALE:GREGORIAN
BEGIN:VEVENT
SUMMARY:Yoga deelstation
DTSTART;TZID=Europe/Amsterdam:20250520T190000
DTEND;TZID=Europe/Amsterdam:20250520T200000
LOCATION:van der Bildtstraat 6
DESCRIPTION: 
STATUS:CONFIRMED
SEQUENCE:0
END:VEVENT
END:VCALENDAR