BEGIN:VCALENDAR
VERSION:2.0
CALSCALE:GREGORIAN
BEGIN:VEVENT
SUMMARY:Stage Ashtanga yoga
DTSTART;TZID=Europe/Paris:20220824T093000
DTEND;TZID=Europe/Paris:20220824T113000
LOCATION:La Maison de l&#039;Alchimiste, Montpellier
DESCRIPTION: 
STATUS:CONFIRMED
SEQUENCE:0
END:VEVENT
END:VCALENDAR