BEGIN:VCALENDAR
VERSION:2.0
CALSCALE:GREGORIAN
BEGIN:VEVENT
SUMMARY:Atelier thématique - 2ème série Initiation - MAISON DE L&#039;ALCHIMISTE
DTSTART;TZID=Europe/Paris:20221015T150000
DTEND;TZID=Europe/Paris:20221015T180000
LOCATION:Montpellier
DESCRIPTION: Atelier thématique 
Initiation à la pratique des asanas de la 2ème série de l&#039;Ashtanga yoga 
A la Maison de l&#039;Alchimiste - Montpellier
STATUS:CONFIRMED
SEQUENCE:0
END:VEVENT
END:VCALENDAR