BEGIN:VCALENDAR
VERSION:2.0
CALSCALE:GREGORIAN
BEGIN:VEVENT
SUMMARY:Atelier Ashtanga Yoga - 1ère série complète guidée avec Franco Senica (intermédiaire / avancé)
DTSTART;TZID=Europe/Amsterdam:20220213T160000
DTEND;TZID=Europe/Amsterdam:20220213T190000
LOCATION:STUDIO LE P’TIT DENFERT - 3 rue Denfert Rochereau - 34200 Sète
DESCRIPTION: Cet atelier est dirigé par Franco Senica.
STATUS:CONFIRMED
SEQUENCE:0
END:VEVENT
END:VCALENDAR