BEGIN:VCALENDAR
VERSION:2.0
CALSCALE:GREGORIAN
BEGIN:VEVENT
SUMMARY:Hatha Yoga avec Béatrice Paquereau : Atelier ouverture du corps vers l’arrière et yoga restauratif (tous niveaux)
DTSTART;TZID=Europe/Amsterdam:20230416T160000
DTEND;TZID=Europe/Amsterdam:20230416T180000
LOCATION:Studio Le P’tit Denfert – 3, rue Denfert Rochereau à Sète
DESCRIPTION: 
STATUS:CONFIRMED
SEQUENCE:0
END:VEVENT
END:VCALENDAR