BEGIN:VCALENDAR
VERSION:2.0
CALSCALE:GREGORIAN
BEGIN:VEVENT
SUMMARY:Yoga d&#039;été
DTSTART;TZID=Europe/Paris:20250708T190000
DTEND;TZID=Europe/Paris:20250708T201500
LOCATION:11 rue de Rochecave, Azay sur cher
DESCRIPTION: Un cours en tout petit groupe (5 personnes maximum) pour garder le contact avec l&amp;#039;enseignement pendant les vacances ou découvrir mon approche pédagogique
STATUS:CONFIRMED
SEQUENCE:0
END:VEVENT
END:VCALENDAR