BEGIN:VCALENDAR
VERSION:2.0
CALSCALE:GREGORIAN
BEGIN:VEVENT
SUMMARY:Hatha Yoga
DTSTART;TZID=Europe/Amsterdam:20251119T090000
DTEND;TZID=Europe/Amsterdam:20251119T101500
LOCATION:Yogahouse
DESCRIPTION: Een vorm van yoga, waarbij je middels lichaamsgerichte inspanning (asana’s) en ademoefeningen (prananyama) komt tot ontspanning. Houdingen zijn juist niet in een flow aan elkaar geschakeld waardoor je met behulp van je ademhaling de houdingen meer kunt verdiepen. De ervaring en het bewustzijn zijn belangrijker dan de houding op zich. Dit maakt de les toegankelijk voor iedereen.
STATUS:CONFIRMED
SEQUENCE:0
END:VEVENT
END:VCALENDAR