BEGIN:VCALENDAR
VERSION:2.0
CALSCALE:GREGORIAN
BEGIN:VEVENT
SUMMARY:Mindful Yin
DTSTART;TZID=Europe/Amsterdam:20181219T193000
DTEND;TZID=Europe/Amsterdam:20181219T203000
LOCATION:Vlijmen
DESCRIPTION: Een meditatieve yogavorm die zeer rustig verloopt. Houdingen zijn zittend of liggend en worden langer aangehouden. Je ontspant de spieren waardoor het bindweefsel wordt opgerekt en gestimuleerd. De ademhaling speelt een belangrijke rol om meer in het hier en nu te Zijn. Uitgebreide informatie vind je op www.yoga-in-beweging.nl
STATUS:CONFIRMED
SEQUENCE:0
END:VEVENT
END:VCALENDAR