BEGIN:VCALENDAR
VERSION:2.0
CALSCALE:GREGORIAN
BEGIN:VEVENT
SUMMARY:Lu Jong yoga 19.30 u
DTSTART;TZID=Europe/Amsterdam:20190219T193000
DTEND;TZID=Europe/Amsterdam:20190219T203000
LOCATION:Vlijmen
DESCRIPTION: Een Tibetaanse yogavorm, waarbij de bewegingen vloeiend en krachtig zijn in combinatie met een bewuste ademhaling. Deze vorm van yoga werkt diepgaand, waarbij deze blokkades opheft op fysiek, mentaal en spiritueel niveau. Uitgebreide informatie vind je op www.yoga-in-beweging.nl
STATUS:CONFIRMED
SEQUENCE:0
END:VEVENT
END:VCALENDAR