BEGIN:VCALENDAR
VERSION:2.0
CALSCALE:GREGORIAN
BEGIN:VEVENT
SUMMARY:Acroyoga
DTSTART;TZID=Europe/Amsterdam:20230527T090000
DTEND;TZID=Europe/Amsterdam:20230527T100000
LOCATION:Aaksterveld 2, Ameide
DESCRIPTION: Speelse les waarbij je yoga oefeningen doet met 2 of 3 personen.
Hierbij gaat het om vertrouwen, proberen, niet bang zijn, loslaten, intensieve stretch en heel veel lol.

Geen ervaring nodig, de wil om te proberen wel.
STATUS:CONFIRMED
SEQUENCE:0
END:VEVENT
END:VCALENDAR