BEGIN:VCALENDAR
VERSION:2.0
CALSCALE:GREGORIAN
BEGIN:VEVENT
SUMMARY:Yoga met Bibi
DTSTART;TZID=Europe/Amsterdam:20230412T183000
DTEND;TZID=Europe/Amsterdam:20230412T200000
LOCATION:Studio Stilte Yoga
DESCRIPTION: Fijne rustige yoga les van 1.5 uur
In deze yoga les worden de chakra, deugden en de yoga ontspanningslessen afgewisseld.
STATUS:CONFIRMED
SEQUENCE:0
END:VEVENT
END:VCALENDAR