BEGIN:VCALENDAR
VERSION:2.0
CALSCALE:GREGORIAN
BEGIN:VEVENT
SUMMARY:Morning Yoga with Clare
DTSTART;TZID=Europe/London:20241113T070000
DTEND;TZID=Europe/London:20241113T081000
LOCATION:Heathcote &amp; Star, 344 Grove Green Road
DESCRIPTION: Covering for Basia&#039;s Integral Wake Up
STATUS:CONFIRMED
SEQUENCE:0
END:VEVENT
END:VCALENDAR