BEGIN:VCALENDAR
VERSION:2.0
CALSCALE:GREGORIAN
BEGIN:VEVENT
SUMMARY:Vinyasa with Lucia
DTSTART;TZID=Europe/London:20250124T070000
DTEND;TZID=Europe/London:20250124T080000
LOCATION:Heathcote &amp; Star, 344 Grove Green Road
DESCRIPTION: Early morning vinyasa flow for a slow start, setting a calm tone for the week ahead.
STATUS:CONFIRMED
SEQUENCE:0
END:VEVENT
END:VCALENDAR