BEGIN:VCALENDAR
VERSION:2.0
CALSCALE:GREGORIAN
BEGIN:VEVENT
SUMMARY:Quiet Hours Yoga
DTSTART;TZID=Europe/London:20250312T070000
DTEND;TZID=Europe/London:20250312T081000
LOCATION:Heathcote &amp; Star, 344 Grove Green Road
DESCRIPTION: A warming practice to gently see yourself into your day, exploring deep stretch lines and fluid movement as a way to come into contact with yourself through your body. A fluid vinyasa set to music.
STATUS:CONFIRMED
SEQUENCE:0
END:VEVENT
END:VCALENDAR