BEGIN:VCALENDAR
VERSION:2.0
CALSCALE:GREGORIAN
BEGIN:VEVENT
SUMMARY:Evening Vinyasa Flow
DTSTART;TZID=Europe/London:20250418T171500
DTEND;TZID=Europe/London:20250418T184000
LOCATION:Heathcote &amp; Star, 344 Grove Green Road
DESCRIPTION: A playful encounter with end of week early evening vibes, creating smooth pathways between one posture and the next. An embodiment of smoothly transitioning in life itself. Set to music and made for you.
STATUS:CONFIRMED
SEQUENCE:0
END:VEVENT
END:VCALENDAR